BEGIN:VCALENDAR
VERSION:2.0
PRODID:-//New England PVA - ECPv6.0.12//NONSGML v1.0//EN
CALSCALE:GREGORIAN
METHOD:PUBLISH
X-ORIGINAL-URL:https://www.pvanewengland.org
X-WR-CALDESC:Events for New England PVA
REFRESH-INTERVAL;VALUE=DURATION:PT1H
X-Robots-Tag:noindex
X-PUBLISHED-TTL:PT1H
BEGIN:VTIMEZONE
TZID:America/New_York
BEGIN:DAYLIGHT
TZOFFSETFROM:-0500
TZOFFSETTO:-0400
TZNAME:EDT
DTSTART:20230312T070000
END:DAYLIGHT
BEGIN:STANDARD
TZOFFSETFROM:-0400
TZOFFSETTO:-0500
TZNAME:EST
DTSTART:20231105T060000
END:STANDARD
END:VTIMEZONE
BEGIN:VEVENT
DTSTART;VALUE=DATE:20230704
DTEND;VALUE=DATE:20230710
DTSTAMP:20260424T092242
CREATED:20230516T211448Z
LAST-MODIFIED:20230516T211448Z
UID:5080-1688428800-1688947199@www.pvanewengland.org
SUMMARY:National Wheelchair Veterans Games
DESCRIPTION:The National Veterans Wheelchair Games is the world’s largest annual wheelchair sports and rehabilitation event solely for military veterans. The event demonstrates the unstoppable character of veterans and seeks to foster wider respect and opportunities for all people with disabilities. \nThe National Veterans Wheelchair Games is open to all U.S. veterans with spinal cord injuries\, amputations\, multiple sclerosis\, or other central neurological conditions who require a wheelchair for athletic competition. Every year\, hundreds of American heroes from World War II\, the Korean War\, the Vietnam War\, the Gulf War\, and the post-9/11 era compete in this celebration of sport\, courage and camaraderie.
URL:https://www.pvanewengland.org/event/national-wheelchair-veterans-games/
LOCATION:NH
END:VEVENT
END:VCALENDAR