BEGIN:VCALENDAR
VERSION:2.0
PRODID:-//New England PVA - ECPv6.0.12//NONSGML v1.0//EN
CALSCALE:GREGORIAN
METHOD:PUBLISH
X-ORIGINAL-URL:https://www.pvanewengland.org
X-WR-CALDESC:Events for New England PVA
REFRESH-INTERVAL;VALUE=DURATION:PT1H
X-Robots-Tag:noindex
X-PUBLISHED-TTL:PT1H
BEGIN:VTIMEZONE
TZID:America/New_York
BEGIN:DAYLIGHT
TZOFFSETFROM:-0500
TZOFFSETTO:-0400
TZNAME:EDT
DTSTART:20230312T070000
END:DAYLIGHT
BEGIN:STANDARD
TZOFFSETFROM:-0400
TZOFFSETTO:-0500
TZNAME:EST
DTSTART:20231105T060000
END:STANDARD
END:VTIMEZONE
BEGIN:VEVENT
DTSTART;TZID=America/New_York:20230928T110000
DTEND;TZID=America/New_York:20230928T150000
DTSTAMP:20260424T050747
CREATED:20230919T214837Z
LAST-MODIFIED:20230919T214837Z
UID:5376-1695898800-1695913200@www.pvanewengland.org
SUMMARY:Wampanoag Rod and Gun Club Shoot
DESCRIPTION:Wampanoag Rod and Gun Club\n78 Cross St.\, Seekonk\, MA
URL:https://www.pvanewengland.org/event/wampanoag-rod-and-gun-club-shoot/
LOCATION:NH
END:VEVENT
END:VCALENDAR