BEGIN:VCALENDAR
VERSION:2.0
PRODID:-//New England PVA - ECPv6.0.12//NONSGML v1.0//EN
CALSCALE:GREGORIAN
METHOD:PUBLISH
X-ORIGINAL-URL:https://www.pvanewengland.org
X-WR-CALDESC:Events for New England PVA
REFRESH-INTERVAL;VALUE=DURATION:PT1H
X-Robots-Tag:noindex
X-PUBLISHED-TTL:PT1H
BEGIN:VTIMEZONE
TZID:America/New_York
BEGIN:DAYLIGHT
TZOFFSETFROM:-0500
TZOFFSETTO:-0400
TZNAME:EDT
DTSTART:20210314T070000
END:DAYLIGHT
BEGIN:STANDARD
TZOFFSETFROM:-0400
TZOFFSETTO:-0500
TZNAME:EST
DTSTART:20211107T060000
END:STANDARD
END:VTIMEZONE
BEGIN:VEVENT
DTSTART;TZID=America/New_York:20210602T130000
DTEND;TZID=America/New_York:20210602T150000
DTSTAMP:20260425T232435
CREATED:20210524T222148Z
LAST-MODIFIED:20210524T223054Z
UID:3765-1622638800-1622646000@www.pvanewengland.org
SUMMARY:Cycling - Windham\, NH
DESCRIPTION:Cycling – Windham\, NH\nDay: Wednesday\nDates: June 2\, June 16\, June 30\, July 14\, July 28\, August 11\, August 25\nTime: 1:00 PM to 3:00 PM\nLocation: Windham\, NH\nCapacity: 10\nRegistration Fee: $25($5 w/own cycle)\, $0.00 for Veterans \nCome join Northeast Passage for a weekday afternoon ride on a picturesque trail in Windham\, NH.  Bring your own cycle or use one of ours and ride along a 7 mile (round-trip) paved trail!  Whether you’re looking to rack up the miles or just looking for a leisurely ride\, this is the event for you! See you on the trail!! \nParticipants are required to wear a face mask\, except during physical exertion with appropriate distancing–if you do not have a mask\, NEP can provide one. Read more about our safety protocols. \nFunding for this program was awarded to Northeast Passage through a grant from the United States Department of Veterans Affairs.
URL:https://www.pvanewengland.org/event/cycling-windham-nh/2021-06-02/
LOCATION:Windham\, NH\, United States
CATEGORIES:Adaptive Activities,Off Road Cycling,Outdoor
ORGANIZER;CN="Northeast%20Passage":MAILTO:northeast.passage@unh.edu
END:VEVENT
BEGIN:VEVENT
DTSTART;TZID=America/New_York:20210602T170000
DTEND;TZID=America/New_York:20210602T193000
DTSTAMP:20260425T232435
CREATED:20210524T225820Z
LAST-MODIFIED:20210524T225820Z
UID:3802-1622653200-1622662200@www.pvanewengland.org
SUMMARY:Golf (Course) - Windham Country Club in Windham\, NH
DESCRIPTION:Golf – Windham Country Club in Windham\, NH\nDates: June 2\, June 16\, July 7\, July 21\, August 4\, August 18\, August 25\nTime: 5:00 PM to 7:30 PM\nLocation: Windham Country Club\, Windham\, NH\nCapacity: 4\nRegistration Fee: $25 \n\n\n\n\nJoin Northeast Passage at the beautiful Windham Country Club and hit the links with the use of adaptive clubs and carts. This program is appropriate for participants with golf experience on the range who are looking to take their game to the course. Participant golf clubs encouraged\, but not required. \nCourse nights are a great opportunity to put what you have learned on the range to use on the course and a great way to work on improving your overall game. \nNot sure what group to sign up for? Give us a call at (603) 862-0070 or email us at northeast.passage@unh.edu \nParticipants are required to wear a face mask\, except during physical exertion with appropriate distancing–if you do not have a mask\, NEP can provide one. Read more about our safety protocols.
URL:https://www.pvanewengland.org/event/golf-course-windham-country-club-in-windham-nh/2021-06-02/
LOCATION:Windham\, NH\, United States
CATEGORIES:Adaptive Activities,Golfing
ORGANIZER;CN="Northeast%20Passage":MAILTO:northeast.passage@unh.edu
END:VEVENT
BEGIN:VEVENT
DTSTART;TZID=America/New_York:20210608T160000
DTEND;TZID=America/New_York:20210608T180000
DTSTAMP:20260425T232435
CREATED:20210524T224012Z
LAST-MODIFIED:20210524T224012Z
UID:3795-1623168000-1623175200@www.pvanewengland.org
SUMMARY:Off Road Cycling - Auburn\, NH
DESCRIPTION:Off Road Cycling – Auburn\, NH\nDate: Tuesday Jun 8\, 2021\nTime: 4:00 PM to 6:00 PM\nLocation: Auburn\, NH\nCapacity: 8\nRegistration Fee: $25\, $0.00 for Veterans \nCome join Northeast Passage for a “Socially Distant” afternoon ride on the Rockingham Rail Trail and FOMBA trails.  Bring your own cycle or use one of ours and ride the wooded trail!  Option to ride around fire roads as well. NEP will provide cycles\, and assistance with fitting you to your cycle. Ride as much as you want in the time given. Terrain is relatively flat (rail trail) to moderate\, if you choose. \nWe are limited to smaller groups\, so please\, pre-register for each event and cancel if you cannot make it. \nVeteran registration fees for this program are waived due to a grant from the United States Department of Veteran Affairs.
URL:https://www.pvanewengland.org/event/off-road-cycling-auburn-nh/
LOCATION:Auburn\, NH
CATEGORIES:Adaptive Activities,Off Road Cycling,Outdoor
ORGANIZER;CN="Northeast%20Passage":MAILTO:northeast.passage@unh.edu
END:VEVENT
BEGIN:VEVENT
DTSTART;TZID=America/New_York:20210609T170000
DTEND;TZID=America/New_York:20210609T193000
DTSTAMP:20260425T232435
CREATED:20210524T230624Z
LAST-MODIFIED:20210524T230624Z
UID:3811-1623258000-1623267000@www.pvanewengland.org
SUMMARY:Golf (Range) - Windham Country Club\, Windham\, NH
DESCRIPTION:Golf (Range) – Windham Country Club\, Windham\, NH\nJoin Northeast Passage at the beautiful Windham Country Club and hit the range with the use of adaptive clubs and carts. This program is appropriate for participants of all abilities and levels of experience. \nThis program is appropriate for participants of all abilities and levels of experience. Range nights are a perfect opportunity to come learn the basics and improve your shot on the driving range. \nNot sure what group to sign up for? Give us a call at (603) 862-0070 or email us at northeast.passage@unh.edu \nParticipants are required to wear a face mask\, except during physical exertion with appropriate distancing–if you do not have a mask\, NEP can provide one. Read more about our safety protocols. \nDay: Wednesday\nDates: June 9\, June 23\, June 30\, July 14\, July 28\, August 11\nTime: 5:00 PM to 7:00 PM\nLocation: Windham Country Club\, Windham\, NH\nCapacity: 5\nRegistration Fee: $25
URL:https://www.pvanewengland.org/event/golf-range-windham-country-club-windham-nh/2021-06-09/
LOCATION:Windham\, NH\, United States
CATEGORIES:Adaptive Activities,Golfing,Outdoor
ORGANIZER;CN="Northeast%20Passage":MAILTO:northeast.passage@unh.edu
END:VEVENT
BEGIN:VEVENT
DTSTART;TZID=America/New_York:20210615T110000
DTEND;TZID=America/New_York:20210615T120000
DTSTAMP:20260425T232435
CREATED:20210610T020652Z
LAST-MODIFIED:20210610T022011Z
UID:3881-1623754800-1623758400@www.pvanewengland.org
SUMMARY:Unconscious Bias Presented by Dept. of Veterans Affairs
DESCRIPTION:Unconscious Bias\n\nPresented by Department of Veterans Affairs \n\n\n\nWhen\nTuesday\, Jun 15\, 2021\n11:00 a.m. – 12:00 p.m. EST\n\n\nCost\nFree\n\n\n\n\n\n Add to Calendar\nShare on Facebook\nShare on Twitter\n\n\n\n\n\n\nWhat is Unconscious Bias? ​ How Does it Affect Me? What Can I Do About It?  By the time you are done with this session you will be able to answer these questions and understand how Unconscious Biases can affect the workplace and your life. \nMicrosoft Teams meeting: \nJoin on your computer or mobile app \nClick here to join the meeting \nOr call in (audio only) \n+1 872-701-0185\,\,793689130#   United States\, Chicago \nPhone Conference ID: 793 689 130# \nFind a local number | Reset PIN
URL:https://www.pvanewengland.org/event/unconscious-bias-presented-by-dept-of-veterans-affairs/
LOCATION:Online\, United States
CATEGORIES:Featured,Health,Virtual Activities
END:VEVENT
BEGIN:VEVENT
DTSTART;TZID=America/New_York:20210615T190000
DTEND;TZID=America/New_York:20210615T203000
DTSTAMP:20260425T232435
CREATED:20210610T021451Z
LAST-MODIFIED:20210610T022058Z
UID:3886-1623783600-1623789000@www.pvanewengland.org
SUMMARY:Stress Solutions with American Red Cross Military and Veteran Caregiver Network (MVCN)
DESCRIPTION:Stress Solutions with American Red Cross Military and Veteran Caregiver Network (MVCN)\n \n\n#CaregiverSupport #MVCN \n\n\n\nWhen\nTuesday\, Jun 15\, 2021\n7:00 p.m. – 8:30 p.m. CST\n\n\nCost\nFREE\n\nREGISTER HERE\n\n\n\n\n Add to Calendar\nShare on Facebook\nShare on Twitter\n\n\n\n\n\n\nStress Solutions: a virtual workshop that teaches stress management through learning the signs of stress\, practicing relaxation techniques\, discussing sleep issues\, learning to help others and changing the way you think about stress. This workshop is for service members\, veterans and their family members. It is a live\, facilitated discussion about solutions for stress. You will have an opportunity to share with others\, learn and practice new skills and ask questions in a small online group.
URL:https://www.pvanewengland.org/event/stress-solutions-with-american-red-cross-military-and-veteran-caregiver-network-mvcn/
LOCATION:Online\, United States
CATEGORIES:Health,Virtual Activities
END:VEVENT
BEGIN:VEVENT
DTSTART;TZID=America/New_York:20210629T180000
DTEND;TZID=America/New_York:20210629T200000
DTSTAMP:20260425T232435
CREATED:20210616T235619Z
LAST-MODIFIED:20210616T235619Z
UID:3902-1624989600-1624996800@www.pvanewengland.org
SUMMARY:Adaptive Pickleball Clinic by Gaylord Sports Association
DESCRIPTION:Adaptive Pickleball Clinic by Gaylord Sports Association\nDate: Tuesday\, June 29\nTime: 6:00 – 8:00 PM\nLocation: Tennis Courts\, Gaylord Specialty Healthcare\, Wallingford\n\nEvent Information\nAre you intersted in trying the sport of Pickleball?  Here is your chance!  Join us for our first Adaptive Pickleball Clinic!  Pickleball is easy to learn and can be enjoyed by all skill and ability levels. The clinic will include instruction from pickleball experts\, equipment and game play.  This event is open to anyone who is interested in learning about and playing Pickleball. Sport wheelchairs will be available if needed. Please contact 203-284-2772 or sports@gaylord.org for more information and to register.\n\nRegistration Information\n\n\nThere is no cost to attend the Adaptive Pickleball Clinic.  Pre-registration is required. All participants must complete an updated member profile and annual Liability Waiver and Media Release.\n\nTo maintain as safe an enviroment as possible\, COVID-19 protocols will be used for all attendees\, staff and volunteers. Temperature checks have been discontinued however participants will be asked COVID screening questions prior to participation.  Face coverings are currently required at all programs.\nPlease contact us with questions at 203-284-2772 or sports@gaylord.org.\n\nAbout Gaylord Sports Association\n\n\nThe Gaylord Sports Association is a program of Gaylord Specialty Healthcare and is based out of Wallingford\, CT. We serve adults with a physical disability or visual impairment and welcome new members to join us. All programs require registration and some programs have registration deadlines.  Call us at 203-284-2772 with any questions or to register. Most events are free unless otherwise noted. For more information on our programs\, please visit us at www.gaylord.org/sports.
URL:https://www.pvanewengland.org/event/adaptive-pickleball-clinic-by-gaylord-sports-association/
LOCATION:Gaylord Specialty Healthcare\, 50 Gaylord Farm Road\, Wallingford\, CT\, 06492\, United States
CATEGORIES:Adaptive Activities,Featured,Wheelchair Pickleball
ATTACH;FMTTYPE=image/jpeg:https://www.pvanewengland.org/wp-content/uploads/2020/12/gaylord-sports-association-logo.jpg
ORGANIZER;CN="Gaylord%20Sports%20Association":MAILTO:sports@gaylord.org
END:VEVENT
END:VCALENDAR