BEGIN:VCALENDAR
VERSION:2.0
PRODID:-//New England PVA - ECPv6.0.12//NONSGML v1.0//EN
CALSCALE:GREGORIAN
METHOD:PUBLISH
X-WR-CALNAME:New England PVA
X-ORIGINAL-URL:https://www.pvanewengland.org
X-WR-CALDESC:Events for New England PVA
REFRESH-INTERVAL;VALUE=DURATION:PT1H
X-Robots-Tag:noindex
X-PUBLISHED-TTL:PT1H
BEGIN:VTIMEZONE
TZID:America/New_York
BEGIN:DAYLIGHT
TZOFFSETFROM:-0500
TZOFFSETTO:-0400
TZNAME:EDT
DTSTART:20210314T070000
END:DAYLIGHT
BEGIN:STANDARD
TZOFFSETFROM:-0400
TZOFFSETTO:-0500
TZNAME:EST
DTSTART:20211107T060000
END:STANDARD
END:VTIMEZONE
BEGIN:VEVENT
DTSTART;TZID=America/New_York:20210713T160000
DTEND;TZID=America/New_York:20210713T180000
DTSTAMP:20260425T213657
CREATED:20210524T224915Z
LAST-MODIFIED:20210524T224915Z
UID:3800-1626192000-1626199200@www.pvanewengland.org
SUMMARY:Off-Road Cycling - Stratham\, NH
DESCRIPTION:Off-Road Cycling – Stratham\, NH\nDate: Tuesday Jul 13\, 2021\nTime: 4:00 PM to 6:00 PM\nLocation: Auburn\, NH\nCapacity: 8\nRegistration Fee: $25\, $0.00 for Veterans \nCome join Northeast Passage for a ride through Stratham Hill Park.  Bring your own cycle or use one of ours and ride along beautiful fields or wooded trails!  NEP will provide cycles\, helmets\, and assistance with fitting you to your cycle. Whether you’re looking to explore or just looking for a leisurely ride\, this is the event for you! Ride as much as you want in the time given. See you on the trail!! \nVeteran registration fees for this program are waived due to a grant from the United States Department of Veteran Affairs.
URL:https://www.pvanewengland.org/event/off-road-cycling-stratham-nh-2/
LOCATION:Stratham\, NH\, Stratham\, NH\, United States
CATEGORIES:Adaptive Activities,Off Road Cycling,Outdoor
ORGANIZER;CN="Northeast%20Passage":MAILTO:northeast.passage@unh.edu
END:VEVENT
BEGIN:VEVENT
DTSTART;TZID=America/New_York:20210727T140000
DTEND;TZID=America/New_York:20210727T161500
DTSTAMP:20260425T213657
CREATED:20210723T005417Z
LAST-MODIFIED:20210723T005417Z
UID:3969-1627394400-1627402500@www.pvanewengland.org
SUMMARY:Golf Clinic by Gaylord Sports Association
DESCRIPTION:Golf Clinic by Gaylord Sports Association\nJoin us for a golf clinic on the South Lawn at Gaylord Specialty Healthcare in Wallingford. This clinic is designed to provide adult golfers with physical disabilities and visual impairments the opportunity to work with a trained PGA professional\, Certified Recreation Therapists\, and volunteers to adapt the sport of golf\, overcome barriers\, and support independence. Beginners and returning participants are welcome and all equipment is provided. \nThere will be 2 sessions from 2:00 PM-3:00PM and 3:15PM-4:15PM( This session will be available once the first session is full). There is a limit of 4 participants per session. There will be driving stations and the putting green will be available. Each golfer will be cycled through each station to allow time at each station.  COVID-19 protocols will be used for all attendees and staff. Masks will be required. Pre-registration is required. Contact the Sports Association at 203-284-2772 or sports@gaylord.org to register.
URL:https://www.pvanewengland.org/event/golf-clinic-by-gaylord-sports-association-2/
LOCATION:NH
CATEGORIES:Adaptive Activities,Golfing
ATTACH;FMTTYPE=image/jpeg:https://www.pvanewengland.org/wp-content/uploads/2020/12/gaylord-sports-association-logo.jpg
ORGANIZER;CN="Gaylord%20Sports%20Association":MAILTO:sports@gaylord.org
END:VEVENT
BEGIN:VEVENT
DTSTART;TZID=America/New_York:20210729T170000
DTEND;TZID=America/New_York:20210729T190000
DTSTAMP:20260425T213657
CREATED:20210723T010043Z
LAST-MODIFIED:20210723T010043Z
UID:3971-1627578000-1627585200@www.pvanewengland.org
SUMMARY:Kayak Outing by Gaylord Sports Association
DESCRIPTION:Kayak Outing by Gaylord Sports Association\nExperience the freedom of the open water during a Sports Association’s Adaptive Kayak Outing. Kayak Outings are for individuals who have participated and passed the Sports Association’s Kayak Classes and would like to take their skills to the next level\, or just enjoy an outdoor kayak experience. Outings include all the necessary equipment and guidance from both American Canoe Association certified instructors and Certified Therapeutic Recreation Specialists. Outings are offered during the summer months. This outing will take place on saltwater out of Lighthouse Point in New Haven.  Kayaking is not only a great fitness activity\, it’s an opportunity to enjoy the outdoors\, socialize\, watch for wildlife\, relax and just have fun! There is a $10 fee for kayak outings payable when registering. Essential eligibility also applies so please call the Sports Association at 203-284-2772 for more information!
URL:https://www.pvanewengland.org/event/kayak-outing-by-gaylord-sports-association/
LOCATION:NH
CATEGORIES:Adaptive Activities,Outdoor
ATTACH;FMTTYPE=image/jpeg:https://www.pvanewengland.org/wp-content/uploads/2020/12/gaylord-sports-association-logo.jpg
ORGANIZER;CN="Gaylord%20Sports%20Association":MAILTO:sports@gaylord.org
END:VEVENT
END:VCALENDAR