BEGIN:VCALENDAR
VERSION:2.0
PRODID:-//New England PVA - ECPv6.0.12//NONSGML v1.0//EN
CALSCALE:GREGORIAN
METHOD:PUBLISH
X-WR-CALNAME:New England PVA
X-ORIGINAL-URL:https://www.pvanewengland.org
X-WR-CALDESC:Events for New England PVA
REFRESH-INTERVAL;VALUE=DURATION:PT1H
X-Robots-Tag:noindex
X-PUBLISHED-TTL:PT1H
BEGIN:VTIMEZONE
TZID:America/New_York
BEGIN:DAYLIGHT
TZOFFSETFROM:-0500
TZOFFSETTO:-0400
TZNAME:EDT
DTSTART:20230312T070000
END:DAYLIGHT
BEGIN:STANDARD
TZOFFSETFROM:-0400
TZOFFSETTO:-0500
TZNAME:EST
DTSTART:20231105T060000
END:STANDARD
END:VTIMEZONE
BEGIN:VEVENT
DTSTART;TZID=America/New_York:20230929T080000
DTEND;TZID=America/New_York:20231001T170000
DTSTAMP:20260424T035253
CREATED:20230209T193234Z
LAST-MODIFIED:20230209T193735Z
UID:4896-1695974400-1696179600@www.pvanewengland.org
SUMMARY:NEPVA Bass Trail in Maine
DESCRIPTION:September 29 – October 1\nMaine Bass Tournament\, Camp Wavus\, Maine\n \n\, \nThe NEPVA Bass Trail is run by members of the American Eagle Bass Anglers with the support of Local and Federation members.\nAnglers with disabilities are paired with boaters for a day of competitive fishing. The partners compete as a team and the team with the largest weight for their limit takes home the first place trophies. The anglers can compete in as many events as possible. Lunker prizes are also awarded for the largest bass taken at each tournament. This tournament trail is completely FREE\, there is no entry fee to fish these tournaments. \nPLEASE NOTE: All registrations are due 2 weeks prior to the event. (We cannot guarantee a boat will be provided for you if you register less than 2 weeks prior to the event.) Cancellations should be made by calling the Sports Director at 800-660-1181 #5 at least 5 days in advance of the event. \nRegister at the bottom of the page HERE.
URL:https://www.pvanewengland.org/event/nepva-bass-trail-in-maine/
LOCATION:NH
END:VEVENT
BEGIN:VEVENT
DTSTART;TZID=America/New_York:20231011T110000
DTEND;TZID=America/New_York:20231011T150000
DTSTAMP:20260424T035253
CREATED:20230822T151212Z
LAST-MODIFIED:20230919T214348Z
UID:5276-1697022000-1697036400@www.pvanewengland.org
SUMMARY:Monument Beach Sportsman Club Shoot
DESCRIPTION:Monument Beach Sportsman Club\n199 Mcarthur Blvd.\, Buzzards Bay
URL:https://www.pvanewengland.org/event/seeking-shoot/
LOCATION:NH
END:VEVENT
BEGIN:VEVENT
DTSTART;TZID=America/New_York:20231017T150000
DTEND;TZID=America/New_York:20231017T170000
DTSTAMP:20260424T035253
CREATED:20231004T165324Z
LAST-MODIFIED:20231004T165519Z
UID:5402-1697554800-1697562000@www.pvanewengland.org
SUMMARY:Webinar - “Research is the Foundation for Successful Advocacy.”
DESCRIPTION:On October 17\, at 3:00 p.m. E.T.\, PVA will host a webinar titled\, “Research is the Foundation for Successful Advocacy.” Join PVA’s Research and Government Relations teams to learn about the ways you can be a part of a research team. Use your lived experience to help make a difference in the advisement of science and policy. \nPlease register in advance for this webinar: https://pva.zoom.us/webinar/register/WN_IWG81EsUTv-FAZYA-8nCKQ. After registering\, you will receive a confirmation email containing information about joining the event. This webinar is for all PVA members. Please share! \nThe webinar will be recorded for those unable to attend the live presentation.
URL:https://www.pvanewengland.org/event/webinar-research-is-the-foundation-for-successful-advocacy/
LOCATION:Zoom Online
END:VEVENT
END:VCALENDAR