BEGIN:VCALENDAR
VERSION:2.0
PRODID:-//New England PVA - ECPv6.0.12//NONSGML v1.0//EN
CALSCALE:GREGORIAN
METHOD:PUBLISH
X-ORIGINAL-URL:https://www.pvanewengland.org
X-WR-CALDESC:Events for New England PVA
REFRESH-INTERVAL;VALUE=DURATION:PT1H
X-Robots-Tag:noindex
X-PUBLISHED-TTL:PT1H
BEGIN:VTIMEZONE
TZID:America/New_York
BEGIN:DAYLIGHT
TZOFFSETFROM:-0500
TZOFFSETTO:-0400
TZNAME:EDT
DTSTART:20230312T070000
END:DAYLIGHT
BEGIN:STANDARD
TZOFFSETFROM:-0400
TZOFFSETTO:-0500
TZNAME:EST
DTSTART:20231105T060000
END:STANDARD
END:VTIMEZONE
BEGIN:VEVENT
DTSTART;TZID=America/New_York:20231111T100000
DTEND;TZID=America/New_York:20231112T160000
DTSTAMP:20260424T023941
CREATED:20231106T212942Z
LAST-MODIFIED:20231106T214434Z
UID:5428-1699696800-1699804800@www.pvanewengland.org
SUMMARY:New England Boccia Camp -- Marriott Crown Colony 1200 Crown Colony Dr\, Quincy\, MA
DESCRIPTION:This will be an all-inclusive event for everyone from novices to experienced players. The camp will start with a Boccia 101 session on the Saturday morning. This will cover general gameplay and rules to get started. Participants will then get a chance to play boccia in a 1 on 1 tournament. \nThis will be followed with a chance to play as team in a 2 vs 2 or 3 vs 3 tournament on Sunday. \nSaturday hours 10 a.m. to 4 p.m. with lunch being provided\nSunday hours 10 a.m. to 1 p.m. without lunch being provided \nTo register for this free camp\, register at\nhttps://beta.bookabl.io/…/events/y0wgjuBWplPvutuKaM1fn
URL:https://www.pvanewengland.org/event/new-england-boccia-camp/
LOCATION:NH
CATEGORIES:Boccia
ORGANIZER;CN="New%20England%20Chapter%20PVA":MAILTO:info@pvanewengland.org
END:VEVENT
END:VCALENDAR