BEGIN:VCALENDAR
VERSION:2.0
PRODID:-//New England PVA - ECPv6.0.12//NONSGML v1.0//EN
CALSCALE:GREGORIAN
METHOD:PUBLISH
X-WR-CALNAME:New England PVA
X-ORIGINAL-URL:https://www.pvanewengland.org
X-WR-CALDESC:Events for New England PVA
REFRESH-INTERVAL;VALUE=DURATION:PT1H
X-Robots-Tag:noindex
X-PUBLISHED-TTL:PT1H
BEGIN:VTIMEZONE
TZID:America/New_York
BEGIN:DAYLIGHT
TZOFFSETFROM:-0500
TZOFFSETTO:-0400
TZNAME:EDT
DTSTART:20230312T070000
END:DAYLIGHT
BEGIN:STANDARD
TZOFFSETFROM:-0400
TZOFFSETTO:-0500
TZNAME:EST
DTSTART:20231105T060000
END:STANDARD
END:VTIMEZONE
BEGIN:VEVENT
DTSTART;TZID=America/New_York:20231207T120000
DTEND;TZID=America/New_York:20231207T133000
DTSTAMP:20260424T011051
CREATED:20231019T211029Z
LAST-MODIFIED:20231030T175130Z
UID:5416-1701950400-1701955800@www.pvanewengland.org
SUMMARY:Veterans with MS Informational Zoom: Understanding SSDI Benefits and Eligibility with National Service Office Michael Snape
DESCRIPTION:All NEPVA members with MS and/or their caregivers are invited to an informational zoom on December 7th at noon. Mr. Michael Snape is highly skilled at securing benefits and VA assistance for veterans with MS. Co-hosted by Director Chuck Houle\, the zoom will include a brief presentation by Mr. Snape followed by an informal Q & A session for members.\nZoom link:\nhttps://us06web.zoom.us/j/88911735514?pwd=qow0HawMafaPEeBxci8vXRFBLEzpZf.1 \nIn the meantime\, please save the date 	Thursday\, December 7th at noon \nand contact Kristen (kristen@pvanewengland.org) with any questions!
URL:https://www.pvanewengland.org/event/veterans-with-ms-informational-zoom-understanding-ssdi-benefits-and-eligibility-with-national-service-office-michael-snape/
LOCATION:Zoom Meeting
END:VEVENT
END:VCALENDAR