BEGIN:VCALENDAR
VERSION:2.0
PRODID:-//New England PVA - ECPv6.0.12//NONSGML v1.0//EN
CALSCALE:GREGORIAN
METHOD:PUBLISH
X-WR-CALNAME:New England PVA
X-ORIGINAL-URL:https://www.pvanewengland.org
X-WR-CALDESC:Events for New England PVA
REFRESH-INTERVAL;VALUE=DURATION:PT1H
X-Robots-Tag:noindex
X-PUBLISHED-TTL:PT1H
BEGIN:VTIMEZONE
TZID:America/New_York
BEGIN:DAYLIGHT
TZOFFSETFROM:-0500
TZOFFSETTO:-0400
TZNAME:EDT
DTSTART:20240310T070000
END:DAYLIGHT
BEGIN:STANDARD
TZOFFSETFROM:-0400
TZOFFSETTO:-0500
TZNAME:EST
DTSTART:20241103T060000
END:STANDARD
END:VTIMEZONE
BEGIN:VEVENT
DTSTART;TZID=America/New_York:20240329T100000
DTEND;TZID=America/New_York:20240329T130000
DTSTAMP:20260423T202629
CREATED:20240320T200335Z
LAST-MODIFIED:20240320T201159Z
UID:5649-1711706400-1711717200@www.pvanewengland.org
SUMMARY:Spaulding Adaptive Sports Clinic for those with MS
DESCRIPTION:Spaulding Adaptive Sports Centers\nInformation Session & Demo Event\nThe Boston Home\, 2049 Dorchester Avenue\, Boston MA 02124\nFriday\, March 29\, 2024\, 10 am -1 pm\, Free Admission \nIn honor of Multiple Sclerosis (MS) Awareness Month\, The Boston Home is proud to welcome Spaulding Adaptive Sports Centers (SASC) for an information session and demo event. The Boston Home is a community for adults with MS and other advanced neurological disorders offering residential care as well as wellness programs. Join us to meet the SASC team\, learn about the adaptive sports equipment and programs they offer\, and find new ways to stay active while living with MS. For more information or to RSVP\, please contact Victoria Stevens\, Director of Communications at The Boston Home\, 617-326-4310 or vstevens@thebostonhome.org.
URL:https://www.pvanewengland.org/event/spaulding-adaptive-sports-clinic-for-those-with-ms/
LOCATION:NH
END:VEVENT
END:VCALENDAR