BEGIN:VCALENDAR
VERSION:2.0
PRODID:-//New England PVA - ECPv6.0.12//NONSGML v1.0//EN
CALSCALE:GREGORIAN
METHOD:PUBLISH
X-WR-CALNAME:New England PVA
X-ORIGINAL-URL:https://www.pvanewengland.org
X-WR-CALDESC:Events for New England PVA
REFRESH-INTERVAL;VALUE=DURATION:PT1H
X-Robots-Tag:noindex
X-PUBLISHED-TTL:PT1H
BEGIN:VTIMEZONE
TZID:America/New_York
BEGIN:DAYLIGHT
TZOFFSETFROM:-0500
TZOFFSETTO:-0400
TZNAME:EDT
DTSTART:20240310T070000
END:DAYLIGHT
BEGIN:STANDARD
TZOFFSETFROM:-0400
TZOFFSETTO:-0500
TZNAME:EST
DTSTART:20241103T060000
END:STANDARD
END:VTIMEZONE
BEGIN:VEVENT
DTSTART;TZID=America/New_York:20240416T173000
DTEND;TZID=America/New_York:20240416T183000
DTSTAMP:20260423T184652
CREATED:20240320T202213Z
LAST-MODIFIED:20240320T202404Z
UID:5655-1713288600-1713292200@www.pvanewengland.org
SUMMARY:MS Informational Zoom "Ask a Social Worker"
DESCRIPTION:All NEPVA members with MS and their caregivers are invited to an informational zoom on April 16th at 5:30 p.m. with VA social workers Michelle Turcotte-Smail and Tina Birdsall. Co-hosted by NEPVA Director Chuck Houle\, the zoom will include a brief presentation on benefits available to veterans with MS followed by an informational Q&A session. \nPresenters: \nChuck Houle: Member of the New England Chapter Board of Directors and Chapter MS lead to National PVA. \nMichelle Turcotte-Smail\, LICSW:\nSpinal Cord Injuries and Disorders Clinic and Polytrauma Clinic Social Work Coordinator at the White River Junction VA Medical Center. Michelle has worked for Veterans Health Administration for 14 years in the Spinal Cord Injury/Disorders Clinic\, Polytrauma Clinic\, Primary Care\, and 	Geriatrics. \nCristina Birdsall\, LSCW:\nRreceived her Bachelor’s Degree in Psychology from University of Connecticut and her Master’s Degree in Social Work from Southern Connecticut State University. She began her social work career at the West Haven VA in 2012 on the inpatient hospital units before transitioning to the Spinal Cord Coordinator position in 2016. Tina took over the role as ALS Coordinator in 2020. \nPlease contact Kristen McCone Gordon at kristen@pvanewengland.org with any questions on this event or NEPVA Veterans with MS program. \nJoin Zoom Meeting: https://us06web.zoom.us/j/81131798705?pwd=i0xwqY7QdgScea8gDChWHt3jnK4Mkj.1\nMeeting ID: 811 3179 8705 Passcode: 124060
URL:https://www.pvanewengland.org/event/ms-informational-zoom-ask-a-social-worker/
LOCATION:NH
END:VEVENT
BEGIN:VEVENT
DTSTART;TZID=America/New_York:20240430T120000
DTEND;TZID=America/New_York:20240430T130000
DTSTAMP:20260423T184652
CREATED:20240319T191448Z
LAST-MODIFIED:20240319T192356Z
UID:5637-1714478400-1714482000@www.pvanewengland.org
SUMMARY:NEPVA Women's Veteran Inaugural Zoom
DESCRIPTION:NEPVA women veteran network flyer
URL:https://www.pvanewengland.org/event/nepva-womens-veteran-inaugural-zoom/
LOCATION:NH
END:VEVENT
END:VCALENDAR