BEGIN:VCALENDAR
VERSION:2.0
PRODID:-//New England PVA - ECPv6.0.12//NONSGML v1.0//EN
CALSCALE:GREGORIAN
METHOD:PUBLISH
X-WR-CALNAME:New England PVA
X-ORIGINAL-URL:https://www.pvanewengland.org
X-WR-CALDESC:Events for New England PVA
REFRESH-INTERVAL;VALUE=DURATION:PT1H
X-Robots-Tag:noindex
X-PUBLISHED-TTL:PT1H
BEGIN:VTIMEZONE
TZID:America/New_York
BEGIN:DAYLIGHT
TZOFFSETFROM:-0500
TZOFFSETTO:-0400
TZNAME:EDT
DTSTART:20240310T070000
END:DAYLIGHT
BEGIN:STANDARD
TZOFFSETFROM:-0400
TZOFFSETTO:-0500
TZNAME:EST
DTSTART:20241103T060000
END:STANDARD
END:VTIMEZONE
BEGIN:VEVENT
DTSTART;TZID=America/New_York:20240908T120000
DTEND;TZID=America/New_York:20240908T160000
DTSTAMP:20260423T111718
CREATED:20240708T210630Z
LAST-MODIFIED:20240708T210630Z
UID:5872-1725796800-1725811200@www.pvanewengland.org
SUMMARY:2024 NEPVA Membership Gathering
DESCRIPTION:Get ready for an afternoon of great food and camaraderie at the 2024 PVA New England Annual Membership Gathering! Last year’s event was such a success\, we decided to do it again. Join us for a casual afternoon of chowder\, steak\, lobster\, chicken and all the accompaniments! Free for Chapter Members and one guest\, VA Staff and Volunteers. There will be a DJ\, 50/50 raffle\, cash bar and lots of fun. Hope to see you there! \nItalian American War Veterans (Post 45)\n111 Neil St\, Marlborough\, MA 01752-2892\, United States
URL:https://www.pvanewengland.org/event/2024-nepva-membership-gathering/
LOCATION:Italian American War Vets Post\, 111 Neil St.\, Marlboro\, MA
CATEGORIES:Featured
END:VEVENT
BEGIN:VEVENT
DTSTART;TZID=America/New_York:20240924T120000
DTEND;TZID=America/New_York:20240924T140000
DTSTAMP:20260423T111718
CREATED:20240719T192029Z
LAST-MODIFIED:20240719T192127Z
UID:5887-1727179200-1727186400@www.pvanewengland.org
SUMMARY:Informational Zoom: Ask a Social Worker
DESCRIPTION:I’m happy to report that our” Ask a Social Worker!” Zoom has been rescheduled for September 24th at noon. I highly encourage your participation in what will be a very informative and relaxed event. I will be joined by Michelle Turcotte-Smail\, LICSW Spinal Cord Injuries and Disorders Clinic and Polytrauma Clinic Social Work Coordinator at the White River Junction VA Medical Center and Cristina Birdsall\, LICSW Spinal Cord Injury/Disorders Clinical Coordinator at VA Connecticut Healthcare. Michelle and Tina are a both a wealth of knowledge and this promises to be a very informative discussion. Please consider zooming in and hearing about benefits you may be eligible for through your local VA. Here is the zoom link for the event: ZOOM MEETING We’ll be sharing this via email and Facebook (be sure to follow us if you don’t already!) as well.
URL:https://www.pvanewengland.org/event/informational-zoom-ask-a-social-worker/
LOCATION:Zoom Meeting
END:VEVENT
END:VCALENDAR